BEGIN:VCALENDAR
VERSION:2.0
PRODID:floktu.com
X-PUBLISHED-TTL:P1W
BEGIN:VEVENT
UID:FloktuEvent34138@floktu.com
DTSTART:20260108T230000Z
SEQUENCE:0
TRANSP:OPAQUE
DTEND:20260416T040000Z
SUMMARY:Flexpath Assessment
DESCRIPTION:Visit https://flexpathassessment.floktu.com for more informatio
 n.
DTSTAMP:20260421T113624Z
END:VEVENT
END:VCALENDAR